{
 "currentVersion": 10.51,
 "serviceDescription": "Prezentacja mapy przszkodowej . Port Lotniczy Poznań-Ławica. Pionowy układ odniesienia: PL-EVRF2007-NH (Amsterdam).",
 "name": "SIPII/Mapa_przeszkodowa",
 "description": "Prezentacja mapy przszkodowej . Port Lotniczy Poznań-Ławica. Pionowy układ odniesienia: PL-EVRF2007-NH (Amsterdam).",
 "extent": {
  "xmin": 6402258.937858031,
  "ymin": 5800838.6729115145,
  "xmax": 6439258.274484562,
  "ymax": 5819022.311179768,
  "spatialReference": {
   "wkid": 2177,
   "latestWkid": 2177
  }
 },
 "initialExtent": {
  "xmin": 6402258.937858031,
  "ymin": 5800838.6729115145,
  "xmax": 6439258.274484562,
  "ymax": 5819022.311179768,
  "spatialReference": {
   "wkid": 2177,
   "latestWkid": 2177
  }
 },
 "fullExtent": {
  "xmin": 6402258.937858031,
  "ymin": 5800838.6729115145,
  "xmax": 6439258.274484562,
  "ymax": 5819022.311179768,
  "spatialReference": {
   "wkid": 2177,
   "latestWkid": 2177
  }
 },
 "heightModelInfo": {
  "heightModel": "orthometric",
  "heightUnit": "meter"
 },
 "pixelSizeX": 1.5880906784501083,
 "pixelSizeY": 1.5880906784501105,
 "bandCount": 4,
 "pixelType": "U8",
 "minPixelSize": 0,
 "maxPixelSize": 0,
 "copyrightText": "",
 "serviceDataType": "esriImageServiceDataTypeGeneric",
 "minValues": [
  0,
  0,
  0,
  0
 ],
 "maxValues": [
  255,
  255,
  255,
  255
 ],
 "meanValues": [
  222.47854441477,
  223.07798094623,
  215.21228176714,
  246.30669534765
 ],
 "stdvValues": [
  56.801361168017,
  61.269282782553,
  62.917950589545,
  46.273309246218
 ],
 "objectIdField": "",
 "fields": [],
 "capabilities": "Image,Metadata,Mensuration",
 "defaultMosaicMethod": "Center",
 "allowedMosaicMethods": "",
 "sortField": "",
 "sortValue": null,
 "mosaicOperator": "First",
 "defaultCompressionQuality": 75,
 "defaultResamplingMethod": "Bilinear",
 "maxImageHeight": 4100,
 "maxImageWidth": 15000,
 "allowRasterFunction": true,
 "rasterFunctionInfos": [
  {
   "name": "None",
   "description": "",
   "help": ""
  }
 ],
 "rasterTypeInfos": [
  {
   "name": "Raster Dataset",
   "description": "Supports all ArcGIS Raster Datasets",
   "help": ""
  }
 ],
 "mensurationCapabilities": "Basic",
 "hasHistograms": false,
 "hasColormap": false,
 "hasRasterAttributeTable": false,
 "minScale": 0,
 "maxScale": 0,
 "exportTilesAllowed": false,
 "hasMultidimensions": false,
 "supportsStatistics": false,
 "supportsAdvancedQueries": false,
 "editFieldsInfo": null,
 "ownershipBasedAccessControlForRasters": null,
 "allowComputeTiePoints": false,
 "useStandardizedQueries": true,
 "advancedQueryCapabilities": {
  "useStandardizedQueries": true,
  "supportsStatistics": false,
  "supportsOrderBy": false,
  "supportsDistinct": false,
  "supportsPagination": false
 },
 "spatialReference": {
  "wkid": 2177,
  "latestWkid": 2177
 }
}
