View In:
ArcGIS JavaScript
ArcGIS Online map viewer
Google Earth
ArcMap
View Footprint In:
ArcGIS Online map viewer
Service Description: Prezentacja mapy przszkodowej . Port Lotniczy Poznań-Ławica. Pionowy układ odniesienia: PL-EVRF2007-NH (Amsterdam).
Name: SIPII/Mapa_przeszkodowa
Description: Prezentacja mapy przszkodowej . Port Lotniczy Poznań-Ławica. Pionowy układ odniesienia: PL-EVRF2007-NH (Amsterdam).
Single Fused Map Cache: false
Extent:
XMin: 6402258.937858031
YMin: 5800838.6729115145
XMax: 6439258.274484562
YMax: 5819022.311179768
Spatial Reference: 2177
(2177)
Initial Extent:
XMin: 6402258.937858031
YMin: 5800838.6729115145
XMax: 6439258.274484562
YMax: 5819022.311179768
Spatial Reference: 2177
(2177)
Full Extent:
XMin: 6402258.937858031
YMin: 5800838.6729115145
XMax: 6439258.274484562
YMax: 5819022.311179768
Spatial Reference: 2177
(2177)
Pixel Size X: 1.5880906784501083
Pixel Size Y: 1.5880906784501105
Band Count: 4
Pixel Type: U8
RasterFunction Infos: {"name":"None","description":"","help":""}
Mensuration Capabilities: Basic
Has Histograms: false
Has Colormap: false
Has Multi Dimensions : false
Rendering Rule:
Min Scale: 0
Max Scale: 0
Copyright Text:
Service Data Type: esriImageServiceDataTypeGeneric
Min Values: 0, 0, 0, 0
Max Values: 255, 255, 255, 255
Mean Values: 222.47854441477, 223.07798094623, 215.21228176714, 246.30669534765
Standard Deviation Values: 56.801361168017, 61.269282782553, 62.917950589545, 46.273309246218
Object ID Field:
Fields:
None
Default Mosaic Method: Center
Allowed Mosaic Methods:
SortField:
SortValue: null
Mosaic Operator: First
Default Compression Quality: 75
Default Resampling Method: Bilinear
Max Record Count: null
Max Image Height: 4100
Max Image Width: 15000
Max Download Image Count: null
Max Mosaic Image Count: null
Allow Raster Function: true
Allow Compute TiePoints: false
Supports Statistics: false
Supports Advanced Queries: false
Use StandardizedQueries: true
Raster Type Infos:
Name: Raster Dataset
Description: Supports all ArcGIS Raster Datasets
Help:
Has Raster Attribute Table: false
Edit Fields Info: null
Ownership Based AccessControl For Rasters: null
Child Resources:
Info
Key Properties
Legend
MultiDimensionalInfo
rasterFunctionInfos
Supported Operations:
Export Image
Identify
Measure
Compute Histograms
Compute Statistics Histograms
Get Samples
Compute Class Statistics